Workbook

Sheet Questions
A1: Question | B1: Question Image (link) | C1: Correct Answer | D1: Correct Image (link) | E1: Wrong Answer 1 | F1: Wrong 1 Image (link) | G1: Wrong Answer 2 | H1: Wrong 2 Image (link) | I1: Wrong Answer 3 | J1: Wrong 3 Image (link)
A2: What is the SI unit of force? | C2: Newton | E2: Joule | G2: Watt | I2: Pascal
A3: Name the organelle shown in the picture. | B3: https://commons.wikimedia.org/wiki/Special:FilePath/Animal_mitochondrion_diagram_unlabelled.svg?width=600 | C3: Mitochondrion | E3: Nucleus | G3: Ribosome | I3: Chloroplast
A4: Which picture shows a plant cell? | D4: https://commons.wikimedia.org/wiki/Special:FilePath/Plant_cell_structure_svg_2.svg?width=600 | F4: https://commons.wikimedia.org/wiki/Special:FilePath/Animal_cell_structure_en.svg?width=600 | H4: https://commons.wikimedia.org/wiki/Special:FilePath/Prokaryote_cell.svg?width=600
A5: What is the chemical formula for water? (type it) | C5: H2O

Sheet Preview
A1: # | B1: Question | C1: Question picture | D1: Correct | E1: Correct picture | F1: Wrong 1 | G1: Wrong 1 picture | H1: Wrong 2 | I1: Wrong 2 picture | J1: Wrong 3 | K1: Wrong 3 picture
A2: =IF(AND(Questions!A2="",Questions!B2=""),"",ROW()-1) | B2: =Questions!A2&"" | C2: =IF(Questions!B2="","",IF(REGEXMATCH(Questions!B2,"drive\.google\.com"),IMAGE("https://drive.google.com/thumbnail?id="&REGEXEXTRACT(Questions!B2,"[-\w]{25,}")&"&sz=w400"),IMAGE(Questions!B2))) | D2: =Questions!C2&"" | E2: =IF(Questions!D2="","",IF(REGEXMATCH(Questions!D2,"drive\.google\.com"),IMAGE("https://drive.google.com/thumbnail?id="&REGEXEXTRACT(Questions!D2,"[-\w]{25,}")&"&sz=w400"),IMAGE(Questions!D2))) | F2: =Questions!E2&"" | G2: =IF(Questions!F2="","",IF(REGEXMATCH(Questions!F2,"drive\.google\.com"),IMAGE("https://drive.google.com/thumbnail?id="&REGEXEXTRACT(Questions!F2,"[-\w]{25,}")&"&sz=w400"),IMAGE(Questions!F2))) | H2: =Questions!G2&"" | I2: =IF(Questions!H2="","",IF(REGEXMATCH(Questions!H2,"drive\.google\.com"),IMAGE("https://drive.google.com/thumbnail?id="&REGEXEXTRACT(Questions!H2,"[-\w]{25,}")&"&sz=w400"),IMAGE(Questions!H2))) | J2: =Questions!I2&"" | K2: =IF(Questions!J2="","",IF(REGEXMATCH(Questions!J2,"drive\.google\.com"),IMAGE("https://drive.google.com/thumbnail?id="&REGEXEXTRACT(Questions!J2,"[-\w]{25,}")&"&sz=w400"),IMAGE(Questions!J2)))
A3: =IF(AND(Questions!A3="",Questions!B3=""),"",ROW()-1) | B3: =Questions!A3&"" | C3: =IF(Questions!B3="","",IF(REGEXMATCH(Questions!B3,"drive\.google\.com"),IMAGE("https://drive.google.com/thumbnail?id="&REGEXEXTRACT(Questions!B3,"[-\w]{25,}")&"&sz=w400"),IMAGE(Questions!B3))) | D3: =Questions!C3&"" | E3: =IF(Questions!D3="","",IF(REGEXMATCH(Questions!D3,"drive\.google\.com"),IMAGE("https://drive.google.com/thumbnail?id="&REGEXEXTRACT(Questions!D3,"[-\w]{25,}")&"&sz=w400"),IMAGE(Questions!D3))) | F3: =Questions!E3&"" | G3: =IF(Questions!F3="","",IF(REGEXMATCH(Questions!F3,"drive\.google\.com"),IMAGE("https://drive.google.com/thumbnail?id="&REGEXEXTRACT(Questions!F3,"[-\w]{25,}")&"&sz=w400"),IMAGE(Questions!F3))) | H3: =Questions!G3&"" | I3: =IF(Questions!H3="","",IF(REGEXMATCH(Questions!H3,"drive\.google\.com"),IMAGE("https://drive.google.com/thumbnail?id="&REGEXEXTRACT(Questions!H3,"[-\w]{25,}")&"&sz=w400"),IMAGE(Questions!H3))) | J3: =Questions!I3&"" | K3: =IF(Questions!J3="","",IF(REGEXMATCH(Questions!J3,"drive\.google\.com"),IMAGE("https://drive.google.com/thumbnail?id="&REGEXEXTRACT(Questions!J3,"[-\w]{25,}")&"&sz=w400"),IMAGE(Questions!J3)))
A4: =IF(AND(Questions!A4="",Questions!B4=""),"",ROW()-1) | B4: =Questions!A4&"" | C4: =IF(Questions!B4="","",IF(REGEXMATCH(Questions!B4,"drive\.google\.com"),IMAGE("https://drive.google.com/thumbnail?id="&REGEXEXTRACT(Questions!B4,"[-\w]{25,}")&"&sz=w400"),IMAGE(Questions!B4))) | D4: =Questions!C4&"" | E4: =IF(Questions!D4="","",IF(REGEXMATCH(Questions!D4,"drive\.google\.com"),IMAGE("https://drive.google.com/thumbnail?id="&REGEXEXTRACT(Questions!D4,"[-\w]{25,}")&"&sz=w400"),IMAGE(Questions!D4))) | F4: =Questions!E4&"" | G4: =IF(Questions!F4="","",IF(REGEXMATCH(Questions!F4,"drive\.google\.com"),IMAGE("https://drive.google.com/thumbnail?id="&REGEXEXTRACT(Questions!F4,"[-\w]{25,}")&"&sz=w400"),IMAGE(Questions!F4))) | H4: =Questions!G4&"" | I4: =IF(Questions!H4="","",IF(REGEXMATCH(Questions!H4,"drive\.google\.com"),IMAGE("https://drive.google.com/thumbnail?id="&REGEXEXTRACT(Questions!H4,"[-\w]{25,}")&"&sz=w400"),IMAGE(Questions!H4))) | J4: =Questions!I4&"" | K4: =IF(Questions!J4="","",IF(REGEXMATCH(Questions!J4,"drive\.google\.com"),IMAGE("https://drive.google.com/thumbnail?id="&REGEXEXTRACT(Questions!J4,"[-\w]{25,}")&"&sz=w400"),IMAGE(Questions!J4)))
A5: =IF(AND(Questions!A5="",Questions!B5=""),"",ROW()-1) | B5: =Questions!A5&"" | C5: =IF(Questions!B5="","",IF(REGEXMATCH(Questions!B5,"drive\.google\.com"),IMAGE("https://drive.google.com/thumbnail?id="&REGEXEXTRACT(Questions!B5,"[-\w]{25,}")&"&sz=w400"),IMAGE(Questions!B5))) | D5: =Questions!C5&"" | E5: =IF(Questions!D5="","",IF(REGEXMATCH(Questions!D5,"drive\.google\.com"),IMAGE("https://drive.google.com/thumbnail?id="&REGEXEXTRACT(Questions!D5,"[-\w]{25,}")&"&sz=w400"),IMAGE(Questions!D5))) | F5: =Questions!E5&"" | G5: =IF(Questions!F5="","",IF(REGEXMATCH(Questions!F5,"drive\.google\.com"),IMAGE("https://drive.google.com/thumbnail?id="&REGEXEXTRACT(Questions!F5,"[-\w]{25,}")&"&sz=w400"),IMAGE(Questions!F5))) | H5: =Questions!G5&"" | I5: =IF(Questions!H5="","",IF(REGEXMATCH(Questions!H5,"drive\.google\.com"),IMAGE("https://drive.google.com/thumbnail?id="&REGEXEXTRACT(Questions!H5,"[-\w]{25,}")&"&sz=w400"),IMAGE(Questions!H5))) | J5: =Questions!I5&"" | K5: =IF(Questions!J5="","",IF(REGEXMATCH(Questions!J5,"drive\.google\.com"),IMAGE("https://drive.google.com/thumbnail?id="&REGEXEXTRACT(Questions!J5,"[-\w]{25,}")&"&sz=w400"),IMAGE(Questions!J5)))
A6: =IF(AND(Questions!A6="",Questions!B6=""),"",ROW()-1) | B6: =Questions!A6&"" | C6: =IF(Questions!B6="","",IF(REGEXMATCH(Questions!B6,"drive\.google\.com"),IMAGE("https://drive.google.com/thumbnail?id="&REGEXEXTRACT(Questions!B6,"[-\w]{25,}")&"&sz=w400"),IMAGE(Questions!B6))) | D6: =Questions!C6&"" | E6: =IF(Questions!D6="","",IF(REGEXMATCH(Questions!D6,"drive\.google\.com"),IMAGE("https://drive.google.com/thumbnail?id="&REGEXEXTRACT(Questions!D6,"[-\w]{25,}")&"&sz=w400"),IMAGE(Questions!D6))) | F6: =Questions!E6&"" | G6: =IF(Questions!F6="","",IF(REGEXMATCH(Questions!F6,"drive\.google\.com"),IMAGE("https://drive.google.com/thumbnail?id="&REGEXEXTRACT(Questions!F6,"[-\w]{25,}")&"&sz=w400"),IMAGE(Questions!F6))) | H6: =Questions!G6&"" | I6: =IF(Questions!H6="","",IF(REGEXMATCH(Questions!H6,"drive\.google\.com"),IMAGE("https://drive.google.com/thumbnail?id="&REGEXEXTRACT(Questions!H6,"[-\w]{25,}")&"&sz=w400"),IMAGE(Questions!H6))) | J6: =Questions!I6&"" | K6: =IF(Questions!J6="","",IF(REGEXMATCH(Questions!J6,"drive\.google\.com"),IMAGE("https://drive.google.com/thumbnail?id="&REGEXEXTRACT(Questions!J6,"[-\w]{25,}")&"&sz=w400"),IMAGE(Questions!J6)))
A7: =IF(AND(Questions!A7="",Questions!B7=""),"",ROW()-1) | B7: =Questions!A7&"" | C7: =IF(Questions!B7="","",IF(REGEXMATCH(Questions!B7,"drive\.google\.com"),IMAGE("https://drive.google.com/thumbnail?id="&REGEXEXTRACT(Questions!B7,"[-\w]{25,}")&"&sz=w400"),IMAGE(Questions!B7))) | D7: =Questions!C7&"" | E7: =IF(Questions!D7="","",IF(REGEXMATCH(Questions!D7,"drive\.google\.com"),IMAGE("https://drive.google.com/thumbnail?id="&REGEXEXTRACT(Questions!D7,"[-\w]{25,}")&"&sz=w400"),IMAGE(Questions!D7))) | F7: =Questions!E7&"" | G7: =IF(Questions!F7="","",IF(REGEXMATCH(Questions!F7,"drive\.google\.com"),IMAGE("https://drive.google.com/thumbnail?id="&REGEXEXTRACT(Questions!F7,"[-\w]{25,}")&"&sz=w400"),IMAGE(Questions!F7))) | H7: =Questions!G7&"" | I7: =IF(Questions!H7="","",IF(REGEXMATCH(Questions!H7,"drive\.google\.com"),IMAGE("https://drive.google.com/thumbnail?id="&REGEXEXTRACT(Questions!H7,"[-\w]{25,}")&"&sz=w400"),IMAGE(Questions!H7))) | J7: =Questions!I7&"" | K7: =IF(Questions!J7="","",IF(REGEXMATCH(Questions!J7,"drive\.google\.com"),IMAGE("https://drive.google.com/thumbnail?id="&REGEXEXTRACT(Questions!J7,"[-\w]{25,}")&"&sz=w400"),IMAGE(Questions!J7)))
A8: =IF(AND(Questions!A8="",Questions!B8=""),"",ROW()-1) | B8: =Questions!A8&"" | C8: =IF(Questions!B8="","",IF(REGEXMATCH(Questions!B8,"drive\.google\.com"),IMAGE("https://drive.google.com/thumbnail?id="&REGEXEXTRACT(Questions!B8,"[-\w]{25,}")&"&sz=w400"),IMAGE(Questions!B8))) | D8: =Questions!C8&"" | E8: =IF(Questions!D8="","",IF(REGEXMATCH(Questions!D8,"drive\.google\.com"),IMAGE("https://drive.google.com/thumbnail?id="&REGEXEXTRACT(Questions!D8,"[-\w]{25,}")&"&sz=w400"),IMAGE(Questions!D8))) | F8: =Questions!E8&"" | G8: =IF(Questions!F8="","",IF(REGEXMATCH(Questions!F8,"drive\.google\.com"),IMAGE("https://drive.google.com/thumbnail?id="&REGEXEXTRACT(Questions!F8,"[-\w]{25,}")&"&sz=w400"),IMAGE(Questions!F8))) | H8: =Questions!G8&"" | I8: =IF(Questions!H8="","",IF(REGEXMATCH(Questions!H8,"drive\.google\.com"),IMAGE("https://drive.google.com/thumbnail?id="&REGEXEXTRACT(Questions!H8,"[-\w]{25,}")&"&sz=w400"),IMAGE(Questions!H8))) | J8: =Questions!I8&"" | K8: =IF(Questions!J8="","",IF(REGEXMATCH(Questions!J8,"drive\.google\.com"),IMAGE("https://drive.google.com/thumbnail?id="&REGEXEXTRACT(Questions!J8,"[-\w]{25,}")&"&sz=w400"),IMAGE(Questions!J8)))
A9: =IF(AND(Questions!A9="",Questions!B9=""),"",ROW()-1) | B9: =Questions!A9&"" | C9: =IF(Questions!B9="","",IF(REGEXMATCH(Questions!B9,"drive\.google\.com"),IMAGE("https://drive.google.com/thumbnail?id="&REGEXEXTRACT(Questions!B9,"[-\w]{25,}")&"&sz=w400"),IMAGE(Questions!B9))) | D9: =Questions!C9&"" | E9: =IF(Questions!D9="","",IF(REGEXMATCH(Questions!D9,"drive\.google\.com"),IMAGE("https://drive.google.com/thumbnail?id="&REGEXEXTRACT(Questions!D9,"[-\w]{25,}")&"&sz=w400"),IMAGE(Questions!D9))) | F9: =Questions!E9&"" | G9: =IF(Questions!F9="","",IF(REGEXMATCH(Questions!F9,"drive\.google\.com"),IMAGE("https://drive.google.com/thumbnail?id="&REGEXEXTRACT(Questions!F9,"[-\w]{25,}")&"&sz=w400"),IMAGE(Questions!F9))) | H9: =Questions!G9&"" | I9: =IF(Questions!H9="","",IF(REGEXMATCH(Questions!H9,"drive\.google\.com"),IMAGE("https://drive.google.com/thumbnail?id="&REGEXEXTRACT(Questions!H9,"[-\w]{25,}")&"&sz=w400"),IMAGE(Questions!H9))) | J9: =Questions!I9&"" | K9: =IF(Questions!J9="","",IF(REGEXMATCH(Questions!J9,"drive\.google\.com"),IMAGE("https://drive.google.com/thumbnail?id="&REGEXEXTRACT(Questions!J9,"[-\w]{25,}")&"&sz=w400"),IMAGE(Questions!J9)))
A10: =IF(AND(Questions!A10="",Questions!B10=""),"",ROW()-1) | B10: =Questions!A10&"" | C10: =IF(Questions!B10="","",IF(REGEXMATCH(Questions!B10,"drive\.google\.com"),IMAGE("https://drive.google.com/thumbnail?id="&REGEXEXTRACT(Questions!B10,"[-\w]{25,}")&"&sz=w400"),IMAGE(Questions!B10))) | D10: =Questions!C10&"" | E10: =IF(Questions!D10="","",IF(REGEXMATCH(Questions!D10,"drive\.google\.com"),IMAGE("https://drive.google.com/thumbnail?id="&REGEXEXTRACT(Questions!D10,"[-\w]{25,}")&"&sz=w400"),IMAGE(Questions!D10))) | F10: =Questions!E10&"" | G10: =IF(Questions!F10="","",IF(REGEXMATCH(Questions!F10,"drive\.google\.com"),IMAGE("https://drive.google.com/thumbnail?id="&REGEXEXTRACT(Questions!F10,"[-\w]{25,}")&"&sz=w400"),IMAGE(Questions!F10))) | H10: =Questions!G10&"" | I10: =IF(Questions!H10="","",IF(REGEXMATCH(Questions!H10,"drive\.google\.com"),IMAGE("https://drive.google.com/thumbnail?id="&REGEXEXTRACT(Questions!H10,"[-\w]{25,}")&"&sz=w400"),IMAGE(Questions!H10))) | J10: =Questions!I10&"" | K10: =IF(Questions!J10="","",IF(REGEXMATCH(Questions!J10,"drive\.google\.com"),IMAGE("https://drive.google.com/thumbnail?id="&REGEXEXTRACT(Questions!J10,"[-\w]{25,}")&"&sz=w400"),IMAGE(Questions!J10)))
A11: =IF(AND(Questions!A11="",Questions!B11=""),"",ROW()-1) | B11: =Questions!A11&"" | C11: =IF(Questions!B11="","",IF(REGEXMATCH(Questions!B11,"drive\.google\.com"),IMAGE("https://drive.google.com/thumbnail?id="&REGEXEXTRACT(Questions!B11,"[-\w]{25,}")&"&sz=w400"),IMAGE(Questions!B11))) | D11: =Questions!C11&"" | E11: =IF(Questions!D11="","",IF(REGEXMATCH(Questions!D11,"drive\.google\.com"),IMAGE("https://drive.google.com/thumbnail?id="&REGEXEXTRACT(Questions!D11,"[-\w]{25,}")&"&sz=w400"),IMAGE(Questions!D11))) | F11: =Questions!E11&"" | G11: =IF(Questions!F11="","",IF(REGEXMATCH(Questions!F11,"drive\.google\.com"),IMAGE("https://drive.google.com/thumbnail?id="&REGEXEXTRACT(Questions!F11,"[-\w]{25,}")&"&sz=w400"),IMAGE(Questions!F11))) | H11: =Questions!G11&"" | I11: =IF(Questions!H11="","",IF(REGEXMATCH(Questions!H11,"drive\.google\.com"),IMAGE("https://drive.google.com/thumbnail?id="&REGEXEXTRACT(Questions!H11,"[-\w]{25,}")&"&sz=w400"),IMAGE(Questions!H11))) | J11: =Questions!I11&"" | K11: =IF(Questions!J11="","",IF(REGEXMATCH(Questions!J11,"drive\.google\.com"),IMAGE("https://drive.google.com/thumbnail?id="&REGEXEXTRACT(Questions!J11,"[-\w]{25,}")&"&sz=w400"),IMAGE(Questions!J11)))
A12: =IF(AND(Questions!A12="",Questions!B12=""),"",ROW()-1) | B12: =Questions!A12&"" | C12: =IF(Questions!B12="","",IF(REGEXMATCH(Questions!B12,"drive\.google\.com"),IMAGE("https://drive.google.com/thumbnail?id="&REGEXEXTRACT(Questions!B12,"[-\w]{25,}")&"&sz=w400"),IMAGE(Questions!B12))) | D12: =Questions!C12&"" | E12: =IF(Questions!D12="","",IF(REGEXMATCH(Questions!D12,"drive\.google\.com"),IMAGE("https://drive.google.com/thumbnail?id="&REGEXEXTRACT(Questions!D12,"[-\w]{25,}")&"&sz=w400"),IMAGE(Questions!D12))) | F12: =Questions!E12&"" | G12: =IF(Questions!F12="","",IF(REGEXMATCH(Questions!F12,"drive\.google\.com"),IMAGE("https://drive.google.com/thumbnail?id="&REGEXEXTRACT(Questions!F12,"[-\w]{25,}")&"&sz=w400"),IMAGE(Questions!F12))) | H12: =Questions!G12&"" | I12: =IF(Questions!H12="","",IF(REGEXMATCH(Questions!H12,"drive\.google\.com"),IMAGE("https://drive.google.com/thumbnail?id="&REGEXEXTRACT(Questions!H12,"[-\w]{25,}")&"&sz=w400"),IMAGE(Questions!H12))) | J12: =Questions!I12&"" | K12: =IF(Questions!J12="","",IF(REGEXMATCH(Questions!J12,"drive\.google\.com"),IMAGE("https://drive.google.com/thumbnail?id="&REGEXEXTRACT(Questions!J12,"[-\w]{25,}")&"&sz=w400"),IMAGE(Questions!J12)))
A13: =IF(AND(Questions!A13="",Questions!B13=""),"",ROW()-1) | B13: =Questions!A13&"" | C13: =IF(Questions!B13="","",IF(REGEXMATCH(Questions!B13,"drive\.google\.com"),IMAGE("https://drive.google.com/thumbnail?id="&REGEXEXTRACT(Questions!B13,"[-\w]{25,}")&"&sz=w400"),IMAGE(Questions!B13))) | D13: =Questions!C13&"" | E13: =IF(Questions!D13="","",IF(REGEXMATCH(Questions!D13,"drive\.google\.com"),IMAGE("https://drive.google.com/thumbnail?id="&REGEXEXTRACT(Questions!D13,"[-\w]{25,}")&"&sz=w400"),IMAGE(Questions!D13))) | F13: =Questions!E13&"" | G13: =IF(Questions!F13="","",IF(REGEXMATCH(Questions!F13,"drive\.google\.com"),IMAGE("https://drive.google.com/thumbnail?id="&REGEXEXTRACT(Questions!F13,"[-\w]{25,}")&"&sz=w400"),IMAGE(Questions!F13))) | H13: =Questions!G13&"" | I13: =IF(Questions!H13="","",IF(REGEXMATCH(Questions!H13,"drive\.google\.com"),IMAGE("https://drive.google.com/thumbnail?id="&REGEXEXTRACT(Questions!H13,"[-\w]{25,}")&"&sz=w400"),IMAGE(Questions!H13))) | J13: =Questions!I13&"" | K13: =IF(Questions!J13="","",IF(REGEXMATCH(Questions!J13,"drive\.google\.com"),IMAGE("https://drive.google.com/thumbnail?id="&REGEXEXTRACT(Questions!J13,"[-\w]{25,}")&"&sz=w400"),IMAGE(Questions!J13)))
... A41: =IF(AND(Questions!A41="",Questions!B41=""),"",ROW()-1) | B41: =Questions!A41&"" | C41: =IF(Questions!B41="","",IF(REGEXMATCH(Questions!B41,"drive\.google\.com"),IMAGE("https://drive.google.com/thumbnail?id="&REGEXEXTRACT(Questions!B41,"[-\w]{25,}")&"&sz=w400"),IMAGE(Questions!B41))) | D41: =Questions!C41&"" | E41: =IF(Questions!D41="","",IF(REGEXMATCH(Questions!D41,"drive\.google\.com"),IMAGE("https://drive.google.com/thumbnail?id="&REGEXEXTRACT(Questions!D41,"[-\w]{25,}")&"&sz=w400"),IMAGE(Questions!D41))) | F41: =Questions!E41&"" | G41: =IF(Questions!F41="","",IF(REGEXMATCH(Questions!F41,"drive\.google\.com"),IMAGE("https://drive.google.com/thumbnail?id="&REGEXEXTRACT(Questions!F41,"[-\w]{25,}")&"&sz=w400"),IMAGE(Questions!F41))) | H41: =Questions!G41&"" | I41: =IF(Questions!H41="","",IF(REGEXMATCH(Questions!H41,"drive\.google\.com"),IMAGE("https://drive.google.com/thumbnail?id="&REGEXEXTRACT(Questions!H41,"[-\w]{25,}")&"&sz=w400"),IMAGE(Questions!H41))) | J41: =Questions!I41&"" | K41: =IF(Questions!J41="","",IF(REGEXMATCH(Questions!J41,"drive\.google\.com"),IMAGE("https://drive.google.com/thumbnail?id="&REGEXEXTRACT(Questions!J41,"[-\w]{25,}")&"&sz=w400"),IMAGE(Questions!J41)))

Sheet How to use
A1: Surge Showdown question template
A3: 1. Make your own copy (File → Make a copy). Keep the Questions tab as the FIRST tab and keep its header row.
A4: 2. One question per row. Delete the 4 sample rows when you add your own.
A5: 3. Multiple choice: fill Correct Answer plus 1 to 3 wrong answers.
A6: 4. Type-the-answer: fill only Correct Answer and leave every Wrong column empty. Typed answers are not case-sensitive.
A7: 5. Pictures: paste an image LINK in any green Image column. Text is optional when there is a picture (an answer can be picture-only).
A9: How to get an image link
A10: • From the web: right-click the picture → Copy image address, then paste it in a green column.
A11: • From Google Drive: upload the picture, Share → General access → Anyone with the link (or everyone in your district), Copy link, and paste it. The game turns Drive links into pictures.
A12: • The Preview tab shows the first 40 questions with their pictures. If it shows #REF!, click a picture cell and choose Allow access.
A14: Load the questions into the game
A15: Option A (link): Share → General access → Anyone with the link → Viewer. Copy the link and paste it in Surge Showdown → Questions → Import from Google Sheets.
... A18: Limits: up to 500 questions, 400 characters per question, 200 per answer, up to 5 wrong answers (add columns Wrong Answer 4 / Wrong 4 Image (link) if you need more).
